BEGIN:VCALENDAR
VERSION:2.0
PRODID:-//Tukios.com/
BEGIN:VEVENT
UID:dbc3fb85-944c-41ee-9d54-16dd9253f62b@www.rill.com
DTSTAMP:20260421T150730Z
DTSTART:20260427T200000Z
DTEND:20260427T210000Z
SUMMARY:Celebration of Life
DESCRIPTION:
URL:https://www.rill.com/obituaries/alice-svac
LOCATION: 1151 Mitchell Ave.  Port Orchard WA 98366
GEO:47.531464;-122.6264485
END:VEVENT
END:VCALENDAR